BEGIN:VCALENDAR
VERSION:2.0
PRODID:spatie/icalendar-generator
DESCRIPTION:Events from Anglican Parish of Kingscliff
X-WR-CALDESC:Events from Anglican Parish of Kingscliff
REFRESH-INTERVAL;VALUE=DURATION:PT1440M
X-PUBLISHED-TTL:PT1440M
BEGIN:VTIMEZONE
TZID:Etc/GMT-11
BEGIN:STANDARD
DTSTART:20241206T160000Z
TZOFFSETFROM:+1100
TZOFFSETTO:+1100
END:STANDARD
END:VTIMEZONE
BEGIN:VTIMEZONE
TZID:UTC
BEGIN:STANDARD
DTSTART:20250727T023837Z
TZOFFSETFROM:+0000
TZOFFSETTO:+0000
END:STANDARD
END:VTIMEZONE
BEGIN:VEVENT
UID:278-5
DTSTAMP:20260423T023837Z
SUMMARY:Christianity Explained
LOCATION:St Mark\\'s Anglican Church\, Pottsville 15A Coronation Avenue  Po
 ttsville NSW 2489
ORGANIZER;CN=admin:MAILTO:admin@apok.org.au
RRULE:FREQ=WEEKLY;UNTIL=20250902T000000Z
DTSTART;TZID=Etc/GMT-11:20250902T160000
DTEND;TZID=Etc/GMT-11:20250902T180000
X-ALT-DESC;FMTTYPE=TEXT/HTML:A course dealing with the fundamentals of the 
 Christian Faith. Come for a refresher\, and learn how you can present the 
 gospel to people who are interested.
CATEGORIES:Bible Study Group
URL;VALUE=URI:https://apok.org.au/home/mc-events/christianity-explained/?mc
 _id=278
METHOD:PUBLISH
END:VEVENT
END:VCALENDAR