BEGIN:VCALENDAR
VERSION:2.0
PRODID:spatie/icalendar-generator
DESCRIPTION:Events from Anglican Parish of Kingscliff
X-WR-CALDESC:Events from Anglican Parish of Kingscliff
REFRESH-INTERVAL;VALUE=DURATION:PT1440M
X-PUBLISHED-TTL:PT1440M
BEGIN:VTIMEZONE
TZID:Etc/GMT-11
BEGIN:STANDARD
DTSTART:20250320T140000Z
TZOFFSETFROM:+1100
TZOFFSETTO:+1100
END:STANDARD
END:VTIMEZONE
BEGIN:VTIMEZONE
TZID:UTC
BEGIN:STANDARD
DTSTART:20250727T023838Z
TZOFFSETFROM:+0000
TZOFFSETTO:+0000
END:STANDARD
END:VTIMEZONE
BEGIN:VEVENT
UID:101-16
DTSTAMP:20260423T023838Z
SUMMARY:Bible Study Kingscliff
LOCATION:St James\\' Anglican Church 122 Marine Parade  Kingscliff NSW 2487
ORGANIZER;CN=admin:MAILTO:admin@apok.org.au
RRULE:FREQ=WEEKLY;UNTIL=20251216T000000Z
DTSTART;TZID=Etc/GMT-11:20251215T140000
DTEND;TZID=Etc/GMT-11:20251215T160000
X-ALT-DESC;FMTTYPE=TEXT/HTML:Meet in the Parish Hall at St Jame's in Kingsc
 liff on Monday afternoons to study the Bible and share insights with other
 s. Studying the Bible regularly\, in small chunks\, is the best way to gro
 w as a Christian and become the kind of person that Jesus wants us to be!
CATEGORIES:Bible Study Group
URL;VALUE=URI:https://apok.org.au/home/mc-events/bible-study-kingscliff/?mc
 _id=101
METHOD:PUBLISH
END:VEVENT
END:VCALENDAR